BEGIN:VCALENDAR
VERSION:2.0
PRODID:-//Stiftung Urban Future Forum eV - ECPv6.5.1.4//NONSGML v1.0//EN
CALSCALE:GREGORIAN
METHOD:PUBLISH
X-WR-CALNAME:Stiftung Urban Future Forum eV
X-ORIGINAL-URL:https://urbanfutureforum.org
X-WR-CALDESC:Veranstaltungen für Stiftung Urban Future Forum eV
REFRESH-INTERVAL;VALUE=DURATION:PT1H
X-Robots-Tag:noindex
X-PUBLISHED-TTL:PT1H
BEGIN:VTIMEZONE
TZID:Europe/Paris
BEGIN:DAYLIGHT
TZOFFSETFROM:+0100
TZOFFSETTO:+0200
TZNAME:CEST
DTSTART:20260329T010000
END:DAYLIGHT
BEGIN:STANDARD
TZOFFSETFROM:+0200
TZOFFSETTO:+0100
TZNAME:CET
DTSTART:20261025T010000
END:STANDARD
END:VTIMEZONE
BEGIN:VEVENT
DTSTART;TZID=Europe/Paris:20260520T083000
DTEND;TZID=Europe/Paris:20260520T100000
DTSTAMP:20260423T114916
CREATED:20260422T122735Z
LAST-MODIFIED:20260422T123741Z
UID:4409-1779265800-1779271200@urbanfutureforum.org
SUMMARY:Frühstück auf dem Mainschiff mit Prof. Dr. h.c. mult. Roland Koch am 20. Mai 2026
DESCRIPTION:Lass dieses Feld leer\n	\n										\n	\n		\n						\n				\n			Nachname:\n										\n								\n			\n			\n		\n		\n			\n			\n			\n				\n				\n							\n\n			\n			\n					\n	\n\n\n	\n		\n						\n				\n			Vorname:\n										\n								\n			\n			\n		\n		\n			\n			\n			\n				\n				\n							\n\n			\n			\n					\n	\n\n\n		\n						\n				\n			E-Mail-Adresse:\n										\n								\n			\n			\n		\n		\n			\n			\n			\n				\n							\n\n			\n			\n					\n	\n\n\n	\n		\n						\n				\n			Unternehmen/Institution:\n										\n								\n			\n			\n		\n		\n			\n			\n			\n				\n				\n							\n\n			\n			\n					\n	\n\n\n	\n			\n				\n			Wie sind Sie auf die Veranstaltung aufmerksam geworden?\n										\n								\n			\n	\n		\n		\n		\n										\n				\n					\n					\n					\n						Einladung per Mail von der Stiftung					\n				\n							\n										\n				\n					\n					\n					\n						Webseite					\n				\n							\n										\n				\n					\n					\n					\n						Persönliche Einladung durch ein Vorstandsmitglied der Stiftung					\n				\n							\n										\n				\n					\n					\n					\n						Einladung über den Verteiler der F.A.Z. Vorteilswelt					\n				\n							\n										\n				\n					\n					\n					\n						Sonstiges					\n				\n							\n			\n			\n					\n	\n\n\n	\n						\n				\n			Anmerkungen:\n													(optional)\n					\n			\n			\n		\n		\n			\n						\n			\n			\n					\n	\n\n\n	\n			\n			\n	\n		\n		\n		\n			\n										\n				\n					\n					\n					\n						Mit der Anmeldung zu dieser Veranstaltung stimmen Sie der Aufnahme und Veröffentlichung von Foto- und Videomaterial (inkl. Ton) zu.					\n				\n							\n			\n			\n					\n	\n\n\n	\n			\n			\n	\n		\n		\n		\n			\n										\n				\n					\n					\n					\n						Zustimmung zur Aufnahme in den Newsletter-Verteiler. (optional)					\n				\n							\n			\n			\n					\n	\n\n						\n		Absenden
URL:https://urbanfutureforum.org/event/fruehstueck-auf-dem-mainschiff-mit-prof-dr-h-c-mult-roland-koch-am-20-mai-2026
LOCATION:Schiff der Frankfurter Primus Linie\, Frankfurt am Main
ATTACH;FMTTYPE=image/jpeg:https://urbanfutureforum.org/wp-content/uploads/2026/04/Einladung_Fruehstueck-auf-dem-Mainschiff_20.05.2026.jpg
END:VEVENT
BEGIN:VEVENT
DTSTART;TZID=Europe/Paris:20260521T190000
DTEND;TZID=Europe/Paris:20260521T210000
DTSTAMP:20260423T114916
CREATED:20260410T105816Z
LAST-MODIFIED:20260410T111055Z
UID:4393-1779390000-1779397200@urbanfutureforum.org
SUMMARY:Design for People – Städte als urbane Landschaft
DESCRIPTION:Lass dieses Feld leer\n	\n										\n	\n		\n						\n				\n			Nachname:\n										\n								\n			\n			\n		\n		\n			\n			\n			\n				\n				\n							\n\n			\n			\n					\n	\n\n\n	\n		\n						\n				\n			Vorname:\n										\n								\n			\n			\n		\n		\n			\n			\n			\n				\n				\n							\n\n			\n			\n					\n	\n\n\n		\n						\n				\n			E-Mail-Adresse:\n										\n								\n			\n			\n		\n		\n			\n			\n			\n				\n							\n\n			\n			\n					\n	\n\n\n	\n		\n						\n				\n			Unternehmen/Institution:\n										\n								\n			\n			\n		\n		\n			\n			\n			\n				\n				\n							\n\n			\n			\n					\n	\n\n\n	\n			\n				\n			Wie sind Sie auf die Veranstaltung aufmerksam geworden?\n										\n								\n			\n	\n		\n		\n		\n										\n				\n					\n					\n					\n						Einladung per Mail von der Stiftung					\n				\n							\n										\n				\n					\n					\n					\n						Webseite					\n				\n							\n										\n				\n					\n					\n					\n						Persönliche Einladung durch ein Vorstandsmitglied der Stiftung					\n				\n							\n										\n				\n					\n					\n					\n						Einladung über den Verteiler der F.A.Z. Vorteilswelt					\n				\n							\n										\n				\n					\n					\n					\n						Sonstiges					\n				\n							\n			\n			\n					\n	\n\n\n	\n						\n				\n			Anmerkungen:\n													(optional)\n					\n			\n			\n		\n		\n			\n						\n			\n			\n					\n	\n\n\n	\n			\n			\n	\n		\n		\n		\n			\n										\n				\n					\n					\n					\n						Aufnahme und Veröffentlichung von Foto- und Videomaterial (inkl. Ton) zu.					\n				\n							\n			\n			\n					\n	\n\n\n	\n			\n			\n	\n		\n		\n		\n			\n										\n				\n					\n					\n					\n						Zustimmung zur Aufnahme in den Newsletter-Verteiler (optional).					\n				\n							\n			\n			\n					\n	\n\n						\n		Absenden
URL:https://urbanfutureforum.org/event/design-for-people-staedte-als-urbane-landschaft
LOCATION:Deutsches Architekturmuseum\, Schaumainkai 43\, Frankfurt am Main\, 60596\, Germany
ATTACH;FMTTYPE=image/jpeg:https://urbanfutureforum.org/wp-content/uploads/2026/04/Seite-1.jpg
END:VEVENT
END:VCALENDAR